BEGIN:VCALENDAR
VERSION:2.0
PRODID:spatie/icalendar-generator
DESCRIPTION:Events from Friends of St Mary Queen of Martyrs
X-WR-CALDESC:Events from Friends of St Mary Queen of Martyrs
REFRESH-INTERVAL;VALUE=DURATION:PT1440M
X-PUBLISHED-TTL:PT1440M
BEGIN:VTIMEZONE
TZID:Etc/GMT+0
BEGIN:STANDARD
DTSTART:20250717T000000Z
TZOFFSETFROM:+0000
TZOFFSETTO:+0000
END:STANDARD
END:VTIMEZONE
BEGIN:VTIMEZONE
TZID:UTC
BEGIN:STANDARD
DTSTART:20250723T130229Z
TZOFFSETFROM:+0000
TZOFFSETTO:+0000
END:STANDARD
END:VTIMEZONE
BEGIN:VEVENT
UID:60-57
DTSTAMP:20260419T130229Z
SUMMARY:Children return to school
LOCATION:
ORGANIZER;CN=admin:MAILTO:ian@44webdesign.co.uk
DTSTART;TZID=Etc/GMT+0;VALUE=DATE:20260413
DTEND;TZID=Etc/GMT+0;VALUE=DATE:20260414
X-ALT-DESC;FMTTYPE=TEXT/HTML:
CATEGORIES:General
URL;VALUE=URI:https://smqmfos.org/mc-events/children-return-to-school-5/?mc
 _id=60
END:VEVENT
END:VCALENDAR