BEGIN:VCALENDAR
VERSION:2.0
PRODID:spatie/icalendar-generator
DESCRIPTION:Events from Friends of St Mary Queen of Martyrs
X-WR-CALDESC:Events from Friends of St Mary Queen of Martyrs
REFRESH-INTERVAL;VALUE=DURATION:PT1440M
X-PUBLISHED-TTL:PT1440M
BEGIN:VTIMEZONE
TZID:Etc/GMT+0
BEGIN:STANDARD
DTSTART:20250728T000000Z
TZOFFSETFROM:+0000
TZOFFSETTO:+0000
END:STANDARD
END:VTIMEZONE
BEGIN:VTIMEZONE
TZID:UTC
BEGIN:STANDARD
DTSTART:20250723T141928Z
TZOFFSETFROM:+0000
TZOFFSETTO:+0000
END:STANDARD
END:VTIMEZONE
BEGIN:VEVENT
UID:61-58
DTSTAMP:20260419T141928Z
SUMMARY:Grandparents Afternoon for Foundation 2 (Grandparents invited)
LOCATION:
ORGANIZER;CN=admin:MAILTO:ian@44webdesign.co.uk
DTSTART;TZID=Etc/GMT+0;VALUE=DATE:20260424
DTEND;TZID=Etc/GMT+0;VALUE=DATE:20260425
X-ALT-DESC;FMTTYPE=TEXT/HTML:
CATEGORIES:General
URL;VALUE=URI:https://smqmfos.org/mc-events/grandparents-afternoon-for-foun
 dation-2-grandparents-invited/?mc_id=61
END:VEVENT
END:VCALENDAR