BEGIN:VCALENDAR
VERSION:2.0
PRODID:spatie/icalendar-generator
DESCRIPTION:Events from Friends of St Mary Queen of Martyrs
X-WR-CALDESC:Events from Friends of St Mary Queen of Martyrs
REFRESH-INTERVAL;VALUE=DURATION:PT1440M
X-PUBLISHED-TTL:PT1440M
BEGIN:VTIMEZONE
TZID:Etc/GMT+0
BEGIN:STANDARD
DTSTART:20250731T000000Z
TZOFFSETFROM:+0000
TZOFFSETTO:+0000
END:STANDARD
END:VTIMEZONE
BEGIN:VTIMEZONE
TZID:UTC
BEGIN:STANDARD
DTSTART:20250723T143820Z
TZOFFSETFROM:+0000
TZOFFSETTO:+0000
END:STANDARD
END:VTIMEZONE
BEGIN:VEVENT
UID:62-59
DTSTAMP:20260419T143820Z
SUMMARY:Phonics Screening meeting for parents (Time to be confirmed)
LOCATION:
ORGANIZER;CN=admin:MAILTO:ian@44webdesign.co.uk
DTSTART;TZID=Etc/GMT+0;VALUE=DATE:20260427
DTEND;TZID=Etc/GMT+0;VALUE=DATE:20260428
X-ALT-DESC;FMTTYPE=TEXT/HTML:
CATEGORIES:General
URL;VALUE=URI:https://smqmfos.org/mc-events/phonics-screening-meeting-for-p
 arents-time-to-be-confirmed/?mc_id=62
END:VEVENT
END:VCALENDAR